BEGIN:VCALENDAR
VERSION:2.0
PRODID:-//HRD Corp AI Specialist - Proven Expertise | Active Adventure | Massive Scale | Join over 1,000+ organizations that trust our 13 years of industry experience to sharpen their edge and lead the market. - ECPv6.15.17.1//NONSGML v1.0//EN
CALSCALE:GREGORIAN
METHOD:PUBLISH
X-ORIGINAL-URL:https://igc.net.my
X-WR-CALDESC:Events for HRD Corp AI Specialist - Proven Expertise | Active Adventure | Massive Scale | Join over 1,000+ organizations that trust our 13 years of industry experience to sharpen their edge and lead the market.
REFRESH-INTERVAL;VALUE=DURATION:PT1H
X-Robots-Tag:noindex
X-PUBLISHED-TTL:PT1H
BEGIN:VTIMEZONE
TZID:UTC
BEGIN:STANDARD
TZOFFSETFROM:+0000
TZOFFSETTO:+0000
TZNAME:UTC
DTSTART:20250101T000000
END:STANDARD
END:VTIMEZONE
BEGIN:VEVENT
DTSTART;TZID=UTC:20260309T080000
DTEND;TZID=UTC:20260311T170000
DTSTAMP:20260424T112631
CREATED:20260307T122216Z
LAST-MODIFIED:20260307T142708Z
UID:26675-1773043200-1773248400@igc.net.my
SUMMARY:Team Building with Iftar
DESCRIPTION:A dynamic Team Building course combining Adventure\, Strategy\, Fun and Collaborative challenges to boost communication\, creativity and team performance.\nDownload Brochure  Course Registration  Register via WhatsApp
URL:https://igc.net.my/event/team-building-with-iftar/
LOCATION:Island Tour\, 6 Jalan 3/23A\, Off\, Jalan Genting Kelang\,\, Kuala Lumpur\, W.P Kuala Lumpur\, 53300\, Malaysia
CATEGORIES:Team Buuilding
ATTACH;FMTTYPE=image/webp:https://igc.net.my/wp-content/uploads/2026/03/Team-Building-.webp
ORGANIZER;CN="INTERGLOBAL COMMERCE SDN.BHD":MAILTO:igc.net.my@gmail.com
END:VEVENT
END:VCALENDAR